BEGIN:VCALENDAR
VERSION:2.0
PRODID:-//wp-events-plugin.com//7.2.3.1//EN
TZID:Europe/Berlin
X-WR-TIMEZONE:Europe/Berlin
BEGIN:VEVENT
UID:5@svweser.de
DTSTART;TZID=Europe/Berlin;VALUE=DATE:20251011
DTEND;TZID=Europe/Berlin;VALUE=DATE:20251012
DTSTAMP:20250524T193429Z
URL:https://www.svweser.de/events/kickerturnier-jugendveranstaltung/
SUMMARY:Kickerturnier (Jugendveranstaltung)
DESCRIPTION:Save the date - Genaue Informationen folgen noch... (Ausflug f
 ür unsere Jugend/Kinder)
CATEGORIES:Jugend,Veranstaltung
END:VEVENT
BEGIN:VTIMEZONE
TZID:Europe/Berlin
X-LIC-LOCATION:Europe/Berlin
BEGIN:DAYLIGHT
DTSTART:20250330T030000
TZOFFSETFROM:+0100
TZOFFSETTO:+0200
TZNAME:CEST
END:DAYLIGHT
END:VTIMEZONE
END:VCALENDAR