BEGIN:VCALENDAR
VERSION:2.0
PRODID:-//wp-events-plugin.com//7.2.3.1//EN
TZID:Europe/Berlin
X-WR-TIMEZONE:Europe/Berlin
BEGIN:VEVENT
UID:3@svweser.de
DTSTART;TZID=Europe/Berlin;VALUE=DATE:20251102
DTEND;TZID=Europe/Berlin;VALUE=DATE:20251103
DTSTAMP:20250510T163523Z
URL:https://www.svweser.de/events/halloweenfeier-jugendveranstaltung/
SUMMARY:Halloweenfeier (Jugendveranstaltung)
DESCRIPTION:Save the date - Genaue Informationen folgen noch...\n(Veranstal
 tung für unsere Jugend/Kinder)
CATEGORIES:Jugend,Veranstaltung
END:VEVENT
BEGIN:VTIMEZONE
TZID:Europe/Berlin
X-LIC-LOCATION:Europe/Berlin
BEGIN:STANDARD
DTSTART:20251026T020000
TZOFFSETFROM:+0200
TZOFFSETTO:+0100
TZNAME:CET
END:STANDARD
END:VTIMEZONE
END:VCALENDAR